BEGIN:VCALENDAR
VERSION:2.0
PRODID:-//Sveriges Unga Katoliker - ECPv6.15.20//NONSGML v1.0//EN
CALSCALE:GREGORIAN
METHOD:PUBLISH
X-ORIGINAL-URL:https://www.suk.se
X-WR-CALDESC:Händelser för Sveriges Unga Katoliker
REFRESH-INTERVAL;VALUE=DURATION:PT1H
X-Robots-Tag:noindex
X-PUBLISHED-TTL:PT1H
BEGIN:VTIMEZONE
TZID:Europe/Stockholm
BEGIN:DAYLIGHT
TZOFFSETFROM:+0100
TZOFFSETTO:+0200
TZNAME:CEST
DTSTART:20240331T010000
END:DAYLIGHT
BEGIN:STANDARD
TZOFFSETFROM:+0200
TZOFFSETTO:+0100
TZNAME:CET
DTSTART:20241027T010000
END:STANDARD
BEGIN:DAYLIGHT
TZOFFSETFROM:+0100
TZOFFSETTO:+0200
TZNAME:CEST
DTSTART:20250330T010000
END:DAYLIGHT
BEGIN:STANDARD
TZOFFSETFROM:+0200
TZOFFSETTO:+0100
TZNAME:CET
DTSTART:20251026T010000
END:STANDARD
BEGIN:DAYLIGHT
TZOFFSETFROM:+0100
TZOFFSETTO:+0200
TZNAME:CEST
DTSTART:20260329T010000
END:DAYLIGHT
BEGIN:STANDARD
TZOFFSETFROM:+0200
TZOFFSETTO:+0100
TZNAME:CET
DTSTART:20261025T010000
END:STANDARD
END:VTIMEZONE
BEGIN:VEVENT
DTSTART;VALUE=DATE:20250509
DTEND;VALUE=DATE:20250512
DTSTAMP:20260425T230929
CREATED:20240508T114440Z
LAST-MODIFIED:20240508T115118Z
UID:13674-1746748800-1747007999@www.suk.se
SUMMARY:Konfirmandläger på Marielunds stiftsgård för regionen MJUK
DESCRIPTION:
URL:https://www.suk.se/event/konfirmandlager-pa-marielunds-stiftsgard-for-regionen-mjuk/
LOCATION:Stiftsgården Marielund\, Stiftsgårdsvägen 18\, Ekerö\, 17853
ORGANIZER;CN="Riksf%C3%B6rbundet Sveriges Unga Katoliker":MAILTO:suk@suk.se
END:VEVENT
BEGIN:VEVENT
DTSTART;VALUE=DATE:20250509
DTEND;VALUE=DATE:20250512
DTSTAMP:20260425T230929
CREATED:20240508T114614Z
LAST-MODIFIED:20240508T115024Z
UID:13676-1746748800-1747007999@www.suk.se
SUMMARY:Konfirmandläger för regionen SUK VÄST på Sjöviksgården
DESCRIPTION:
URL:https://www.suk.se/event/konfirmandlager-pa-marielunds-stiftsgard-for-regionen-suk-vast/
LOCATION:Sjöviksgården\, Sjövik i Västra Götaland\, Sörviksvägen 47\, Sjövik\, 44345
ORGANIZER;CN="Riksf%C3%B6rbundet Sveriges Unga Katoliker":MAILTO:suk@suk.se
END:VEVENT
BEGIN:VEVENT
DTSTART;TZID=Europe/Stockholm:20250510T160000
DTEND;TZID=Europe/Stockholm:20250510T200000
DTSTAMP:20260425T230929
CREATED:20250429T100741Z
LAST-MODIFIED:20250429T100741Z
UID:15715-1746892800-1746907200@www.suk.se
SUMMARY:F. Antonius föreläser om boken Tobit.
DESCRIPTION:St. Josefs Unga Katoliker och SLUK i samarbete.
URL:https://www.suk.se/event/f-antonius-forelaser-om-boken-tobit/
LOCATION:Heliga Familjens katolska kapell i Tensta\, Tisslingeplan 34\, Spånga\, 16361
ORGANIZER;CN="SLUK":MAILTO:sluk@suk.se
END:VEVENT
BEGIN:VEVENT
DTSTART;TZID=Europe/Stockholm:20250516T180000
DTEND;TZID=Europe/Stockholm:20250516T210000
DTSTAMP:20260425T230929
CREATED:20250515T084513Z
LAST-MODIFIED:20250515T084513Z
UID:15869-1747418400-1747429200@www.suk.se
SUMMARY:Föreläsning i Sollentuna om Romarbrevet. (SLUK och HKU i samarbete.)
DESCRIPTION:
URL:https://www.suk.se/event/forelasning-i-sollentuna-om-romarbrevet-sluk-och-hku-i-samarbete/
LOCATION:Rotebrokyrkan\, Ytterbyvägen 4E\, Sollentuna\, 19276
ORGANIZER;CN="SLUK":MAILTO:sluk@suk.se
END:VEVENT
BEGIN:VEVENT
DTSTART;TZID=Europe/Stockholm:20250524T103000
DTEND;TZID=Europe/Stockholm:20250524T170000
DTSTAMP:20260425T230929
CREATED:20250430T090241Z
LAST-MODIFIED:20250430T090241Z
UID:15760-1748082600-1748106000@www.suk.se
SUMMARY:SUK Sydösts regionsdag
DESCRIPTION:
URL:https://www.suk.se/event/suk-sydosts-regionsdag-2/
LOCATION:Motala\, Motala
ORGANIZER;CN="SUKs region SUK Syd%C3%B6st":MAILTO:sydost@suk.se
END:VEVENT
BEGIN:VEVENT
DTSTART;TZID=Europe/Stockholm:20250526T173000
DTEND;TZID=Europe/Stockholm:20250526T203000
DTSTAMP:20260425T230929
CREATED:20250430T083217Z
LAST-MODIFIED:20250430T084551Z
UID:15744-1748280600-1748291400@www.suk.se
SUMMARY:Barn är lika olika.
DESCRIPTION:
URL:https://www.suk.se/event/barn-ar-lika-olika/
LOCATION:Bildas kontor\, Stockholm\, Rosenlunsdgatan 13\, Stockholm\, 11849
ORGANIZER;CN="SLUK":MAILTO:sluk@suk.se
END:VEVENT
BEGIN:VEVENT
DTSTART;VALUE=DATE:20250528
DTEND;VALUE=DATE:20250602
DTSTAMP:20260425T230929
CREATED:20250407T131818Z
LAST-MODIFIED:20250407T131818Z
UID:15633-1748390400-1748822399@www.suk.se
SUMMARY:PUKiS läger.
DESCRIPTION:
URL:https://www.suk.se/event/pukis-lager/
LOCATION:Flahults ungdomsgård\, Hillerstorp\, 33574
END:VEVENT
END:VCALENDAR