BEGIN:VCALENDAR
VERSION:2.0
PRODID:-//Sveriges Unga Katoliker - ECPv6.15.20//NONSGML v1.0//EN
CALSCALE:GREGORIAN
METHOD:PUBLISH
X-ORIGINAL-URL:https://www.suk.se
X-WR-CALDESC:Händelser för Sveriges Unga Katoliker
REFRESH-INTERVAL;VALUE=DURATION:PT1H
X-Robots-Tag:noindex
X-PUBLISHED-TTL:PT1H
BEGIN:VTIMEZONE
TZID:Europe/Stockholm
BEGIN:DAYLIGHT
TZOFFSETFROM:+0100
TZOFFSETTO:+0200
TZNAME:CEST
DTSTART:20240331T010000
END:DAYLIGHT
BEGIN:STANDARD
TZOFFSETFROM:+0200
TZOFFSETTO:+0100
TZNAME:CET
DTSTART:20241027T010000
END:STANDARD
BEGIN:DAYLIGHT
TZOFFSETFROM:+0100
TZOFFSETTO:+0200
TZNAME:CEST
DTSTART:20250330T010000
END:DAYLIGHT
BEGIN:STANDARD
TZOFFSETFROM:+0200
TZOFFSETTO:+0100
TZNAME:CET
DTSTART:20251026T010000
END:STANDARD
BEGIN:DAYLIGHT
TZOFFSETFROM:+0100
TZOFFSETTO:+0200
TZNAME:CEST
DTSTART:20260329T010000
END:DAYLIGHT
BEGIN:STANDARD
TZOFFSETFROM:+0200
TZOFFSETTO:+0100
TZNAME:CET
DTSTART:20261025T010000
END:STANDARD
END:VTIMEZONE
BEGIN:VEVENT
DTSTART;VALUE=DATE:20250528
DTEND;VALUE=DATE:20250602
DTSTAMP:20260425T215057
CREATED:20250407T131818Z
LAST-MODIFIED:20250407T131818Z
UID:15633-1748390400-1748822399@www.suk.se
SUMMARY:PUKiS läger.
DESCRIPTION:
URL:https://www.suk.se/event/pukis-lager/
LOCATION:Flahults ungdomsgård\, Hillerstorp\, 33574
END:VEVENT
BEGIN:VEVENT
DTSTART;VALUE=DATE:20250606
DTEND;VALUE=DATE:20250607
DTSTAMP:20260425T215057
CREATED:20250515T094123Z
LAST-MODIFIED:20250515T094123Z
UID:15894-1749168000-1749254399@www.suk.se
SUMMARY:Regionsdag med SUK's-S!
DESCRIPTION:
URL:https://www.suk.se/event/regionsdag-med-suks-s/
LOCATION:Viskängen\, Örebrogatan 4\, Helsingborg\, 25247
ORGANIZER;CN="Region SUK's-S":MAILTO:sukss@suk.se
END:VEVENT
BEGIN:VEVENT
DTSTART;VALUE=DATE:20250613
DTEND;VALUE=DATE:20250616
DTSTAMP:20260425T215057
CREATED:20220323T090843Z
LAST-MODIFIED:20250430T092653Z
UID:6838-1749772800-1750031999@www.suk.se
SUMMARY:13-15 juni: SUKs sommarläger
DESCRIPTION:
URL:https://www.suk.se/event/13-15-juni-suks-sommarlager/
LOCATION:Stiftsgården Marielund\, Stiftsgårdsvägen 18\, Ekerö\, 17853
ORGANIZER;CN="Riksf%C3%B6rbundet Sveriges Unga Katoliker":MAILTO:suk@suk.se
END:VEVENT
BEGIN:VEVENT
DTSTART;VALUE=DATE:20250615
DTEND;VALUE=DATE:20250620
DTSTAMP:20260425T215057
CREATED:20250401T081237Z
LAST-MODIFIED:20250407T123938Z
UID:15484-1749945600-1750377599@www.suk.se
SUMMARY:SUK's-S barnläger
DESCRIPTION:
URL:https://www.suk.se/event/suks-s-barnlager/
LOCATION:Hjelmsjöviks lägergård\, Sveas väg 1\, Örkelljunga\, 28691
ORGANIZER;CN="Region SUK's-S":MAILTO:sukss@suk.se
END:VEVENT
BEGIN:VEVENT
DTSTART;TZID=Europe/Stockholm:20250628T110000
DTEND;TZID=Europe/Stockholm:20250628T150000
DTSTAMP:20260425T215057
CREATED:20250626T122147Z
LAST-MODIFIED:20250626T122147Z
UID:16106-1751108400-1751122800@www.suk.se
SUMMARY:Grill & Chill med SUK Väst
DESCRIPTION:
URL:https://www.suk.se/event/grill-chill-med-suk-vast/
LOCATION:Slottsskogen\, Göteborg.
END:VEVENT
END:VCALENDAR