BEGIN:VCALENDAR
VERSION:2.0
PRODID:-//Sveriges Unga Katoliker - ECPv6.15.20//NONSGML v1.0//EN
CALSCALE:GREGORIAN
METHOD:PUBLISH
X-WR-CALNAME:Sveriges Unga Katoliker
X-ORIGINAL-URL:https://www.suk.se
X-WR-CALDESC:Händelser för Sveriges Unga Katoliker
REFRESH-INTERVAL;VALUE=DURATION:PT1H
X-Robots-Tag:noindex
X-PUBLISHED-TTL:PT1H
BEGIN:VTIMEZONE
TZID:Europe/Stockholm
BEGIN:DAYLIGHT
TZOFFSETFROM:+0100
TZOFFSETTO:+0200
TZNAME:CEST
DTSTART:20240331T010000
END:DAYLIGHT
BEGIN:STANDARD
TZOFFSETFROM:+0200
TZOFFSETTO:+0100
TZNAME:CET
DTSTART:20241027T010000
END:STANDARD
BEGIN:DAYLIGHT
TZOFFSETFROM:+0100
TZOFFSETTO:+0200
TZNAME:CEST
DTSTART:20250330T010000
END:DAYLIGHT
BEGIN:STANDARD
TZOFFSETFROM:+0200
TZOFFSETTO:+0100
TZNAME:CET
DTSTART:20251026T010000
END:STANDARD
BEGIN:DAYLIGHT
TZOFFSETFROM:+0100
TZOFFSETTO:+0200
TZNAME:CEST
DTSTART:20260329T010000
END:DAYLIGHT
BEGIN:STANDARD
TZOFFSETFROM:+0200
TZOFFSETTO:+0100
TZNAME:CET
DTSTART:20261025T010000
END:STANDARD
END:VTIMEZONE
BEGIN:VEVENT
DTSTART;TZID=Europe/Stockholm:20250823T110000
DTEND;TZID=Europe/Stockholm:20250823T170000
DTSTAMP:20260425T185633
CREATED:20250804T094846Z
LAST-MODIFIED:20250804T095206Z
UID:16166-1755946800-1755968400@www.suk.se
SUMMARY:Fotbollsturnering i Malmö
DESCRIPTION:
URL:https://www.suk.se/event/fotbollsturnering-i-malmo/
LOCATION:Bunkeflo IP\, Ängsdalsvägen 24\, Bunkeflostrand\, 21831
ORGANIZER;CN="Region SUK's-S":MAILTO:sukss@suk.se
END:VEVENT
END:VCALENDAR