BEGIN:VCALENDAR
VERSION:2.0
PRODID:-//Sveriges Unga Katoliker - ECPv6.15.20//NONSGML v1.0//EN
CALSCALE:GREGORIAN
METHOD:PUBLISH
X-ORIGINAL-URL:https://www.suk.se
X-WR-CALDESC:Händelser för Sveriges Unga Katoliker
REFRESH-INTERVAL;VALUE=DURATION:PT1H
X-Robots-Tag:noindex
X-PUBLISHED-TTL:PT1H
BEGIN:VTIMEZONE
TZID:Europe/Stockholm
BEGIN:DAYLIGHT
TZOFFSETFROM:+0100
TZOFFSETTO:+0200
TZNAME:CEST
DTSTART:20240331T010000
END:DAYLIGHT
BEGIN:STANDARD
TZOFFSETFROM:+0200
TZOFFSETTO:+0100
TZNAME:CET
DTSTART:20241027T010000
END:STANDARD
BEGIN:DAYLIGHT
TZOFFSETFROM:+0100
TZOFFSETTO:+0200
TZNAME:CEST
DTSTART:20250330T010000
END:DAYLIGHT
BEGIN:STANDARD
TZOFFSETFROM:+0200
TZOFFSETTO:+0100
TZNAME:CET
DTSTART:20251026T010000
END:STANDARD
BEGIN:DAYLIGHT
TZOFFSETFROM:+0100
TZOFFSETTO:+0200
TZNAME:CEST
DTSTART:20260329T010000
END:DAYLIGHT
BEGIN:STANDARD
TZOFFSETFROM:+0200
TZOFFSETTO:+0100
TZNAME:CET
DTSTART:20261025T010000
END:STANDARD
END:VTIMEZONE
BEGIN:VEVENT
DTSTART;VALUE=DATE:20250905
DTEND;VALUE=DATE:20250908
DTSTAMP:20260425T173328
CREATED:20250130T130331Z
LAST-MODIFIED:20250522T092605Z
UID:15238-1757030400-1757289599@www.suk.se
SUMMARY:SUKs Nordiska Ungdomsdagar i Skara
DESCRIPTION:
URL:https://www.suk.se/event/15238/
LOCATION:Skara
ORGANIZER;CN="Riksf%C3%B6rbundet Sveriges Unga Katoliker":MAILTO:suk@suk.se
END:VEVENT
BEGIN:VEVENT
DTSTART;VALUE=DATE:20250914
DTEND;VALUE=DATE:20250915
DTSTAMP:20260425T173328
CREATED:20250825T143900Z
LAST-MODIFIED:20250825T144054Z
UID:16342-1757808000-1757894399@www.suk.se
SUMMARY:Barndag med SUK Sydöst
DESCRIPTION:
URL:https://www.suk.se/event/barndag-med-suk-sydost/
LOCATION:Omberg
ORGANIZER;CN="SUKs region SUK Syd%C3%B6st":MAILTO:sydost@suk.se
END:VEVENT
END:VCALENDAR