BEGIN:VCALENDAR
VERSION:2.0
PRODID:-//Sveriges Unga Katoliker - ECPv6.15.20//NONSGML v1.0//EN
CALSCALE:GREGORIAN
METHOD:PUBLISH
X-WR-CALNAME:Sveriges Unga Katoliker
X-ORIGINAL-URL:https://www.suk.se
X-WR-CALDESC:Händelser för Sveriges Unga Katoliker
REFRESH-INTERVAL;VALUE=DURATION:PT1H
X-Robots-Tag:noindex
X-PUBLISHED-TTL:PT1H
BEGIN:VTIMEZONE
TZID:Europe/Stockholm
BEGIN:DAYLIGHT
TZOFFSETFROM:+0100
TZOFFSETTO:+0200
TZNAME:CEST
DTSTART:20240331T010000
END:DAYLIGHT
BEGIN:STANDARD
TZOFFSETFROM:+0200
TZOFFSETTO:+0100
TZNAME:CET
DTSTART:20241027T010000
END:STANDARD
BEGIN:DAYLIGHT
TZOFFSETFROM:+0100
TZOFFSETTO:+0200
TZNAME:CEST
DTSTART:20250330T010000
END:DAYLIGHT
BEGIN:STANDARD
TZOFFSETFROM:+0200
TZOFFSETTO:+0100
TZNAME:CET
DTSTART:20251026T010000
END:STANDARD
BEGIN:DAYLIGHT
TZOFFSETFROM:+0100
TZOFFSETTO:+0200
TZNAME:CEST
DTSTART:20260329T010000
END:DAYLIGHT
BEGIN:STANDARD
TZOFFSETFROM:+0200
TZOFFSETTO:+0100
TZNAME:CET
DTSTART:20261025T010000
END:STANDARD
END:VTIMEZONE
BEGIN:VEVENT
DTSTART;VALUE=DATE:20251106
DTEND;VALUE=DATE:20251107
DTSTAMP:20260425T143533
CREATED:20250922T082934Z
LAST-MODIFIED:20250922T082934Z
UID:16556-1762387200-1762473599@www.suk.se
SUMMARY:Extra årsmöte SUK riks kl. 19
DESCRIPTION:
URL:https://www.suk.se/event/extra-arsmote-suk-riks-kl-19/
LOCATION:Online
ORGANIZER;CN="Riksf%C3%B6rbundet Sveriges Unga Katoliker":MAILTO:suk@suk.se
END:VEVENT
BEGIN:VEVENT
DTSTART;VALUE=DATE:20251107
DTEND;VALUE=DATE:20251110
DTSTAMP:20260425T143533
CREATED:20250929T084527Z
LAST-MODIFIED:20250929T084713Z
UID:16659-1762473600-1762732799@www.suk.se
SUMMARY:Den Andliga kampen
DESCRIPTION:
URL:https://www.suk.se/event/den-andliga-kampen/
LOCATION:Sunnerbogården\, Ryd\, Hamneda\, 34013
ORGANIZER;CN="Riksf%C3%B6rbundet Sveriges Unga Katoliker":MAILTO:suk@suk.se
END:VEVENT
BEGIN:VEVENT
DTSTART;VALUE=DATE:20251114
DTEND;VALUE=DATE:20251117
DTSTAMP:20260425T143533
CREATED:20250609T084528Z
LAST-MODIFIED:20250915T191109Z
UID:16079-1763078400-1763337599@www.suk.se
SUMMARY:Höstläger med KNUG och KUiS
DESCRIPTION:
URL:https://www.suk.se/event/hostlager-med-knug/
LOCATION:Åkerögården\, Åkerövägen 81\, Norrtälje\, 76194
END:VEVENT
BEGIN:VEVENT
DTSTART;VALUE=DATE:20251122
DTEND;VALUE=DATE:20251123
DTSTAMP:20260425T143533
CREATED:20251114T105148Z
LAST-MODIFIED:20251114T105148Z
UID:16879-1763769600-1763855999@www.suk.se
SUMMARY:Häng med MJUK
DESCRIPTION:
URL:https://www.suk.se/event/hang-med-mjuk/
LOCATION:Vår frus församling\, Lidmansvägen 8\, Västerås\, 72461\, Sweden
END:VEVENT
BEGIN:VEVENT
DTSTART;VALUE=DATE:20251128
DTEND;VALUE=DATE:20251201
DTSTAMP:20260425T143533
CREATED:20250408T074332Z
LAST-MODIFIED:20251021T131657Z
UID:15649-1764288000-1764547199@www.suk.se
SUMMARY:PUKiS adventsläger och årsmöte
DESCRIPTION:
URL:https://www.suk.se/event/pukis-adventslager/
LOCATION:Långserums Lägergård i Jönköping\, Långserum 2\, Hok\, 56793
END:VEVENT
BEGIN:VEVENT
DTSTART;VALUE=DATE:20251128
DTEND;VALUE=DATE:20251201
DTSTAMP:20260425T143533
CREATED:20250516T125548Z
LAST-MODIFIED:20250516T125548Z
UID:15997-1764288000-1764547199@www.suk.se
SUMMARY:Konfirmandläger SLUK och SUK Sydöst
DESCRIPTION:
URL:https://www.suk.se/event/konfirmandlager-sluk-och-suk-sydost/
LOCATION:Stiftsgården Marielund\, Stiftsgårdsvägen 18\, Ekerö\, 17853
ORGANIZER;CN="Riksf%C3%B6rbundet Sveriges Unga Katoliker":MAILTO:suk@suk.se
END:VEVENT
BEGIN:VEVENT
DTSTART;TZID=Europe/Stockholm:20251129T110000
DTEND;TZID=Europe/Stockholm:20251129T163000
DTSTAMP:20260425T143533
CREATED:20251103T114835Z
LAST-MODIFIED:20251103T114835Z
UID:16825-1764414000-1764433800@www.suk.se
SUMMARY:Barndag (SUK's-S)
DESCRIPTION:
URL:https://www.suk.se/event/barndag-suks-s/
LOCATION:S:T THOMAS AV AQUINO FÖRSAMLING\, Lilla Algatan 8\, Lund\, 22350
ORGANIZER;CN="Region SUK's-S":MAILTO:sukss@suk.se
END:VEVENT
END:VCALENDAR