BEGIN:VCALENDAR
VERSION:2.0
PRODID:-//Sveriges Unga Katoliker - ECPv6.15.20//NONSGML v1.0//EN
CALSCALE:GREGORIAN
METHOD:PUBLISH
X-ORIGINAL-URL:https://www.suk.se
X-WR-CALDESC:Händelser för Sveriges Unga Katoliker
REFRESH-INTERVAL;VALUE=DURATION:PT1H
X-Robots-Tag:noindex
X-PUBLISHED-TTL:PT1H
BEGIN:VTIMEZONE
TZID:Europe/Stockholm
BEGIN:DAYLIGHT
TZOFFSETFROM:+0100
TZOFFSETTO:+0200
TZNAME:CEST
DTSTART:20250330T010000
END:DAYLIGHT
BEGIN:STANDARD
TZOFFSETFROM:+0200
TZOFFSETTO:+0100
TZNAME:CET
DTSTART:20251026T010000
END:STANDARD
BEGIN:DAYLIGHT
TZOFFSETFROM:+0100
TZOFFSETTO:+0200
TZNAME:CEST
DTSTART:20260329T010000
END:DAYLIGHT
BEGIN:STANDARD
TZOFFSETFROM:+0200
TZOFFSETTO:+0100
TZNAME:CET
DTSTART:20261025T010000
END:STANDARD
BEGIN:DAYLIGHT
TZOFFSETFROM:+0100
TZOFFSETTO:+0200
TZNAME:CEST
DTSTART:20270328T010000
END:DAYLIGHT
BEGIN:STANDARD
TZOFFSETFROM:+0200
TZOFFSETTO:+0100
TZNAME:CET
DTSTART:20271031T010000
END:STANDARD
END:VTIMEZONE
BEGIN:VEVENT
DTSTART;TZID=Europe/Stockholm:20260616T190000
DTEND;TZID=Europe/Stockholm:20260616T203000
DTSTAMP:20260425T130448
CREATED:20260423T101600Z
LAST-MODIFIED:20260423T101600Z
UID:17817-1781636400-1781641800@www.suk.se
SUMMARY:SUK:s Ledarakademi: Bönen och ledarskapet i kyrkan
DESCRIPTION:
URL:https://www.suk.se/event/suks-ledarakademi-bonen-och-ledarskapet-i-kyrkan/
LOCATION:Online
ORGANIZER;CN="Riksf%C3%B6rbundet Sveriges Unga Katoliker":MAILTO:suk@suk.se
END:VEVENT
BEGIN:VEVENT
DTSTART;VALUE=DATE:20260624
DTEND;VALUE=DATE:20260629
DTSTAMP:20260425T130448
CREATED:20260413T152948Z
LAST-MODIFIED:20260413T152948Z
UID:17725-1782259200-1782691199@www.suk.se
SUMMARY:SUK's-S barnläger
DESCRIPTION:
URL:https://www.suk.se/event/suks-s-barnlager-2/
ORGANIZER;CN="Region SUK's-S":MAILTO:sukss@suk.se
END:VEVENT
BEGIN:VEVENT
DTSTART;VALUE=DATE:20260626
DTEND;VALUE=DATE:20260629
DTSTAMP:20260425T130448
CREATED:20260405T140719Z
LAST-MODIFIED:20260405T140719Z
UID:17719-1782432000-1782691199@www.suk.se
SUMMARY:SUK Sydösts barnläger
DESCRIPTION:
URL:https://www.suk.se/event/suk-sydosts-barnlager/
LOCATION:S:t Nikolai församling i Linköping.
ORGANIZER;CN="SUKs region SUK Syd%C3%B6st":MAILTO:sydost@suk.se
END:VEVENT
END:VCALENDAR